BEGIN:VCALENDAR
VERSION:2.0
PRODID:-//Parrocchia San Pellegrino - ECPv6.15.20//NONSGML v1.0//EN
CALSCALE:GREGORIAN
METHOD:PUBLISH
X-WR-CALNAME:Parrocchia San Pellegrino
X-ORIGINAL-URL:https://www.sanpellegrinoparma.it
X-WR-CALDESC:Eventi per Parrocchia San Pellegrino
REFRESH-INTERVAL;VALUE=DURATION:PT1H
X-Robots-Tag:noindex
X-PUBLISHED-TTL:PT1H
BEGIN:VTIMEZONE
TZID:Europe/Rome
BEGIN:DAYLIGHT
TZOFFSETFROM:+0100
TZOFFSETTO:+0200
TZNAME:CEST
DTSTART:20250330T010000
END:DAYLIGHT
BEGIN:STANDARD
TZOFFSETFROM:+0200
TZOFFSETTO:+0100
TZNAME:CET
DTSTART:20251026T010000
END:STANDARD
BEGIN:DAYLIGHT
TZOFFSETFROM:+0100
TZOFFSETTO:+0200
TZNAME:CEST
DTSTART:20260329T010000
END:DAYLIGHT
BEGIN:STANDARD
TZOFFSETFROM:+0200
TZOFFSETTO:+0100
TZNAME:CET
DTSTART:20261025T010000
END:STANDARD
BEGIN:DAYLIGHT
TZOFFSETFROM:+0100
TZOFFSETTO:+0200
TZNAME:CEST
DTSTART:20270328T010000
END:DAYLIGHT
BEGIN:STANDARD
TZOFFSETFROM:+0200
TZOFFSETTO:+0100
TZNAME:CET
DTSTART:20271031T010000
END:STANDARD
END:VTIMEZONE
BEGIN:VEVENT
DTSTART;TZID=Europe/Rome:20260316T210000
DTEND;TZID=Europe/Rome:20260316T214500
DTSTAMP:20260421T141634
CREATED:20260225T102740Z
LAST-MODIFIED:20260225T102740Z
UID:793-1773694800-1773697500@www.sanpellegrinoparma.it
SUMMARY:Passi nel Deserto 3 - percorso biblico
DESCRIPTION:Link per accedere alla chiamata – oppure inquadra il QR code \nhttps://us02web.zoom.us/j/88682356934?pwd=Anbgd3ZsUMBGUoFYc5NvXUXaP6aO8J.1
URL:https://www.sanpellegrinoparma.it/event/passi-nel-deserto-3-percorso-biblico/
LOCATION:Evento Online
CATEGORIES:conferenze
ORGANIZER;CN="Diocesi di Parma":MAILTO:info@diocesi.parma.it
END:VEVENT
BEGIN:VEVENT
DTSTART;TZID=Europe/Rome:20260310T190000
DTEND;TZID=Europe/Rome:20260310T210000
DTSTAMP:20260421T141634
CREATED:20260210T024010Z
LAST-MODIFIED:20260225T103243Z
UID:535-1773169200-1773176400@www.sanpellegrinoparma.it
SUMMARY:Martedì del Vescovo – 3
DESCRIPTION:
URL:https://www.sanpellegrinoparma.it/event/martedi-del-vescovo-3/
LOCATION:Parrocchia di Santa Maria della Pace\, P.le Pablo\, 27\, Parma\, PR\, 43126\, Italy
CATEGORIES:eventi
ORGANIZER;CN="Diocesi di Parma":MAILTO:info@diocesi.parma.it
END:VEVENT
BEGIN:VEVENT
DTSTART;TZID=Europe/Rome:20260309T210000
DTEND;TZID=Europe/Rome:20260309T214500
DTSTAMP:20260421T141634
CREATED:20260225T102548Z
LAST-MODIFIED:20260225T102548Z
UID:790-1773090000-1773092700@www.sanpellegrinoparma.it
SUMMARY:Passi nel Deserto 2 - percorso biblico
DESCRIPTION:Link per accedere alla chiamata – oppure inquadra il QR code \nhttps://us02web.zoom.us/j/88682356934?pwd=Anbgd3ZsUMBGUoFYc5NvXUXaP6aO8J.1
URL:https://www.sanpellegrinoparma.it/event/passi-nel-deserto-2-percorso-biblico/
LOCATION:Evento Online
CATEGORIES:conferenze
ORGANIZER;CN="Diocesi di Parma":MAILTO:info@diocesi.parma.it
END:VEVENT
BEGIN:VEVENT
DTSTART;TZID=Europe/Rome:20260303T190000
DTEND;TZID=Europe/Rome:20260303T210000
DTSTAMP:20260421T141634
CREATED:20260210T023150Z
LAST-MODIFIED:20260225T103721Z
UID:529-1772564400-1772571600@www.sanpellegrinoparma.it
SUMMARY:Martedì del Vescovo – 2
DESCRIPTION:
URL:https://www.sanpellegrinoparma.it/event/martedi-del-vescovo-2/
LOCATION:Parrocchia Sacro Cuore\, Piazzale A. Volta\, 1\, Parma\, PR\, 43123
CATEGORIES:eventi
ORGANIZER;CN="Diocesi di Parma":MAILTO:info@diocesi.parma.it
END:VEVENT
BEGIN:VEVENT
DTSTART;TZID=Europe/Rome:20260302T210000
DTEND;TZID=Europe/Rome:20260302T214500
DTSTAMP:20260421T141634
CREATED:20260225T101650Z
LAST-MODIFIED:20260225T102419Z
UID:783-1772485200-1772487900@www.sanpellegrinoparma.it
SUMMARY:Passi nel Deserto 1 - percorso biblico
DESCRIPTION:Link per accedere alla chiamata – oppure inquadra il QR code \nhttps://us02web.zoom.us/j/88682356934?pwd=Anbgd3ZsUMBGUoFYc5NvXUXaP6aO8J.1
URL:https://www.sanpellegrinoparma.it/event/passi-nel-deserto-percorso-biblico/
LOCATION:Evento Online
CATEGORIES:conferenze
ORGANIZER;CN="Diocesi di Parma":MAILTO:info@diocesi.parma.it
END:VEVENT
BEGIN:VEVENT
DTSTART;TZID=Europe/Rome:20260227T204500
DTEND;TZID=Europe/Rome:20260227T230000
DTSTAMP:20260421T141634
CREATED:20260217T201959Z
LAST-MODIFIED:20260217T201959Z
UID:666-1772225100-1772233200@www.sanpellegrinoparma.it
SUMMARY:Basilica e Agorà
DESCRIPTION:
URL:https://www.sanpellegrinoparma.it/event/basilica-e-agora/
LOCATION:Cattedrale\, Piazza Duomo\, 7\, Parma\, PR\, 43121\, Italy
CATEGORIES:conferenze
ORGANIZER;CN="Diocesi di Parma":MAILTO:info@diocesi.parma.it
END:VEVENT
BEGIN:VEVENT
DTSTART;TZID=Europe/Rome:20260226T190000
DTEND;TZID=Europe/Rome:20260226T203000
DTSTAMP:20260421T141634
CREATED:20260213T142924Z
LAST-MODIFIED:20260225T103948Z
UID:578-1772132400-1772137800@www.sanpellegrinoparma.it
SUMMARY:Pane Spezzato - Secondo inconto
DESCRIPTION:
URL:https://www.sanpellegrinoparma.it/event/pane-spezzato-secondo-inconto/
LOCATION:San Pellegrino\, Strada Farnese 3\, Parma\, PR\, 43125\, Italy
CATEGORIES:conferenze
END:VEVENT
BEGIN:VEVENT
DTSTART;TZID=Europe/Rome:20260224T190000
DTEND;TZID=Europe/Rome:20260224T220000
DTSTAMP:20260421T141634
CREATED:20260210T021238Z
LAST-MODIFIED:20260212T144838Z
UID:519-1771959600-1771970400@www.sanpellegrinoparma.it
SUMMARY:Martedì del Vescovo - 1
DESCRIPTION:
URL:https://www.sanpellegrinoparma.it/event/martedi-del-vescovo/
LOCATION:Parrocchia San Giovanni Battista\, Via Anna Frank\, 11\, Parma\, PR\, Italy
CATEGORIES:eventi
ORGANIZER;CN="Diocesi di Parma":MAILTO:info@diocesi.parma.it
END:VEVENT
BEGIN:VEVENT
DTSTART;TZID=Europe/Rome:20260218T183000
DTEND;TZID=Europe/Rome:20260218T200000
DTSTAMP:20260421T141634
CREATED:20260213T180633Z
LAST-MODIFIED:20260213T180633Z
UID:652-1771439400-1771444800@www.sanpellegrinoparma.it
SUMMARY:Messa delle Ceneri
DESCRIPTION:Santa Messa nel Mercoledì delle Ceneri. Inizio della quaresima.
URL:https://www.sanpellegrinoparma.it/event/messa-delle-ceneri/
LOCATION:San Pellegrino\, Strada Farnese 3\, Parma\, PR\, 43125\, Italy
ORGANIZER;CN="Parrocchia":MAILTO:info@sanpellegrinoparma.it
END:VEVENT
END:VCALENDAR