BEGIN:VCALENDAR
VERSION:2.0
PRODID:-//Parrocchia San Pellegrino - ECPv6.15.20//NONSGML v1.0//EN
CALSCALE:GREGORIAN
METHOD:PUBLISH
X-WR-CALNAME:Parrocchia San Pellegrino
X-ORIGINAL-URL:https://www.sanpellegrinoparma.it
X-WR-CALDESC:Eventi per Parrocchia San Pellegrino
REFRESH-INTERVAL;VALUE=DURATION:PT1H
X-Robots-Tag:noindex
X-PUBLISHED-TTL:PT1H
BEGIN:VTIMEZONE
TZID:Europe/Rome
BEGIN:DAYLIGHT
TZOFFSETFROM:+0100
TZOFFSETTO:+0200
TZNAME:CEST
DTSTART:20250330T010000
END:DAYLIGHT
BEGIN:STANDARD
TZOFFSETFROM:+0200
TZOFFSETTO:+0100
TZNAME:CET
DTSTART:20251026T010000
END:STANDARD
BEGIN:DAYLIGHT
TZOFFSETFROM:+0100
TZOFFSETTO:+0200
TZNAME:CEST
DTSTART:20260329T010000
END:DAYLIGHT
BEGIN:STANDARD
TZOFFSETFROM:+0200
TZOFFSETTO:+0100
TZNAME:CET
DTSTART:20261025T010000
END:STANDARD
BEGIN:DAYLIGHT
TZOFFSETFROM:+0100
TZOFFSETTO:+0200
TZNAME:CEST
DTSTART:20270328T010000
END:DAYLIGHT
BEGIN:STANDARD
TZOFFSETFROM:+0200
TZOFFSETTO:+0100
TZNAME:CET
DTSTART:20271031T010000
END:STANDARD
END:VTIMEZONE
BEGIN:VEVENT
DTSTART;TZID=Europe/Rome:20260419T000000
DTEND;TZID=Europe/Rome:20260419T235959
DTSTAMP:20260421T153557
CREATED:20260322T063024Z
LAST-MODIFIED:20260322T063254Z
UID:959-1776556800-1776643199@www.sanpellegrinoparma.it
SUMMARY:Ricca pesca di beneficenza a favore della Comunità
DESCRIPTION:Abbiamo organizzato una pesca di beneficenza per domenica 19 marzo 2026. \nRingraziamo tutte le realtà commerciali che ci hanno cortesemente messo a disposizione i prodotti con cui premieremo i fortunati vincitori. \nI proventi serviranna a finanziare le spese ed i nuovi progetti della comunità parrocchiale! \nSeguiranno maggiori informaizoni.
URL:https://www.sanpellegrinoparma.it/event/ricca-pesca-di-beneficenza-a-favore-della-comunita/
LOCATION:San Pellegrino\, Strada Farnese 3\, Parma\, PR\, 43125\, Italy
CATEGORIES:eventi
ORGANIZER;CN="Parrocchia":MAILTO:info@sanpellegrinoparma.it
END:VEVENT
BEGIN:VEVENT
DTSTART;TZID=Europe/Rome:20260418T000000
DTEND;TZID=Europe/Rome:20260418T235959
DTSTAMP:20260421T153557
CREATED:20260322T070508Z
LAST-MODIFIED:20260330T130806Z
UID:980-1776470400-1776556799@www.sanpellegrinoparma.it
SUMMARY:Gita al Lago Santo per i gruppi delle elementari del catechismo
DESCRIPTION:I nostri piccoli del catechismo sono invitati ad una gita al Lago Santo: per informazioni Sabina: +39 340 591 6574\nRitrovo in San Pellegrino alle ore 08:45 con partenza alle 09:00
URL:https://www.sanpellegrinoparma.it/event/gita-al-lago-santo-per-i-gruppi-delle-elementari-del-catechismo/
LOCATION:San Pellegrino\, Strada Farnese 3\, Parma\, PR\, 43125\, Italy
CATEGORIES:catechismo,eventi
ORGANIZER;CN="Parrocchia":MAILTO:info@sanpellegrinoparma.it
END:VEVENT
BEGIN:VEVENT
DTSTART;TZID=Europe/Rome:20260329T110000
DTEND;TZID=Europe/Rome:20260329T123000
DTSTAMP:20260421T153557
CREATED:20260322T065458Z
LAST-MODIFIED:20260322T071213Z
UID:974-1774782000-1774787400@www.sanpellegrinoparma.it
SUMMARY:Domenica delle Palme - inaugurazione del campo sportivo
DESCRIPTION:Leggi il nostro articolo dal Crocevia del Pellegrino \nCi troviamo in San Pellegrino a partire dalle ore 11:00.
URL:https://www.sanpellegrinoparma.it/event/domenica-delle-palme-inaugurazione-del-campo-sportivo/
LOCATION:San Pellegrino\, Strada Farnese 3\, Parma\, PR\, 43125\, Italy
CATEGORIES:celebrazioni,eventi
ORGANIZER;CN="Parrocchia":MAILTO:info@sanpellegrinoparma.it
END:VEVENT
BEGIN:VEVENT
DTSTART;TZID=Europe/Rome:20260327T204500
DTEND;TZID=Europe/Rome:20260327T230000
DTSTAMP:20260421T153557
CREATED:20260217T203740Z
LAST-MODIFIED:20260217T203740Z
UID:679-1774644300-1774652400@www.sanpellegrinoparma.it
SUMMARY:Via Crucis Cittadina
DESCRIPTION:Ritrovo in Mensa Caritas (via Turchi\, 7) con processione verso la Cattedrale
URL:https://www.sanpellegrinoparma.it/event/via-crucis-cittadina/
LOCATION:Mensa Caritas\, Via Adeodato Turchi\, 7\, Parma\, PR\, 43125\, Italy
CATEGORIES:eventi
ORGANIZER;CN="Diocesi di Parma":MAILTO:info@diocesi.parma.it
END:VEVENT
BEGIN:VEVENT
DTSTART;TZID=Europe/Rome:20260317T190000
DTEND;TZID=Europe/Rome:20260317T220000
DTSTAMP:20260421T153557
CREATED:20260210T024430Z
LAST-MODIFIED:20260217T200500Z
UID:543-1773774000-1773784800@www.sanpellegrinoparma.it
SUMMARY:Martedì del Vescovo – 4
DESCRIPTION:
URL:https://www.sanpellegrinoparma.it/event/martedi-del-vescovo-4/
LOCATION:Parrocchia Ognissanti\, Via Nino Bixio\, 113\, Parma\, PR\, Italy
CATEGORIES:eventi
END:VEVENT
BEGIN:VEVENT
DTSTART;TZID=Europe/Rome:20260310T190000
DTEND;TZID=Europe/Rome:20260310T210000
DTSTAMP:20260421T153557
CREATED:20260210T024010Z
LAST-MODIFIED:20260225T103243Z
UID:535-1773169200-1773176400@www.sanpellegrinoparma.it
SUMMARY:Martedì del Vescovo – 3
DESCRIPTION:
URL:https://www.sanpellegrinoparma.it/event/martedi-del-vescovo-3/
LOCATION:Parrocchia di Santa Maria della Pace\, P.le Pablo\, 27\, Parma\, PR\, 43126\, Italy
CATEGORIES:eventi
ORGANIZER;CN="Diocesi di Parma":MAILTO:info@diocesi.parma.it
END:VEVENT
BEGIN:VEVENT
DTSTART;TZID=Europe/Rome:20260303T190000
DTEND;TZID=Europe/Rome:20260303T210000
DTSTAMP:20260421T153557
CREATED:20260210T023150Z
LAST-MODIFIED:20260225T103721Z
UID:529-1772564400-1772571600@www.sanpellegrinoparma.it
SUMMARY:Martedì del Vescovo – 2
DESCRIPTION:
URL:https://www.sanpellegrinoparma.it/event/martedi-del-vescovo-2/
LOCATION:Parrocchia Sacro Cuore\, Piazzale A. Volta\, 1\, Parma\, PR\, 43123
CATEGORIES:eventi
ORGANIZER;CN="Diocesi di Parma":MAILTO:info@diocesi.parma.it
END:VEVENT
BEGIN:VEVENT
DTSTART;TZID=Europe/Rome:20260224T190000
DTEND;TZID=Europe/Rome:20260224T220000
DTSTAMP:20260421T153557
CREATED:20260210T021238Z
LAST-MODIFIED:20260212T144838Z
UID:519-1771959600-1771970400@www.sanpellegrinoparma.it
SUMMARY:Martedì del Vescovo - 1
DESCRIPTION:
URL:https://www.sanpellegrinoparma.it/event/martedi-del-vescovo/
LOCATION:Parrocchia San Giovanni Battista\, Via Anna Frank\, 11\, Parma\, PR\, Italy
CATEGORIES:eventi
ORGANIZER;CN="Diocesi di Parma":MAILTO:info@diocesi.parma.it
END:VEVENT
END:VCALENDAR